BEGIN:VCALENDAR
VERSION:2.0
PRODID:-//Access the Vote Florida - ECPv6.15.4//NONSGML v1.0//EN
CALSCALE:GREGORIAN
METHOD:PUBLISH
X-ORIGINAL-URL:https://www.accessthevote.org
X-WR-CALDESC:Events for Access the Vote Florida
REFRESH-INTERVAL;VALUE=DURATION:PT1H
X-Robots-Tag:noindex
X-PUBLISHED-TTL:PT1H
BEGIN:VTIMEZONE
TZID:America/New_York
BEGIN:DAYLIGHT
TZOFFSETFROM:-0500
TZOFFSETTO:-0400
TZNAME:EDT
DTSTART:20260308T070000
END:DAYLIGHT
BEGIN:STANDARD
TZOFFSETFROM:-0400
TZOFFSETTO:-0500
TZNAME:EST
DTSTART:20261101T060000
END:STANDARD
END:VTIMEZONE
BEGIN:VEVENT
DTSTART;TZID=America/New_York:20260919T000000
DTEND;TZID=America/New_York:20260919T235959
DTSTAMP:20260422T175239
CREATED:20250918T064124Z
LAST-MODIFIED:20250918T064124Z
UID:4605-1789776000-1789862399@www.accessthevote.org
SUMMARY:Deadline to send vote-by-mail ballots to UOCAVA voters
DESCRIPTION:This is detail of Deadline to send vote-by-mail ballots to UOCAVA voters
URL:https://www.accessthevote.org/event-calendar/deadline-to-send-vote-by-mail-ballots-to-uocava-voters-2/
CATEGORIES:General Election – Important Dates
END:VEVENT
END:VCALENDAR